Workbook

Sheet So geht's
B1: beA-Rechte-Matrix: So geht's
B2: Stand 09/2026 · verheyden-tech.de · Muster für Rechtsanwältinnen und Rechtsanwälte, Prüfung im Einzelfall bleibt beim Anwender
B4: Wozu
B5: Das beA-Handbuch listet die Rechte, sagt aber nicht, welche Rolle in der Kanzlei welche braucht. Diese Datei verbindet beides und dokumentiert, wer wann welche Rechte bekommen und wieder abgegeben hat.
B6: So gehen Sie vor
B7: 1. Blatt Matrix: Vorschlag prüfen und für Ihre Kanzlei anpassen (ja, nein, optional, fest). "fest" sind die festen Rechte der beA-Rolle Vertretung laut Handbuch. "optional" gilt als nicht vergeben, bis Sie ja wählen.
B8: 2. Die Zeile Prüfung der Rolle warnt bei Abhängigkeiten aus dem Handbuch: 14 und 15 brauchen 03 oder 05, 17 braucht 03, 20 braucht 01, 30 und 31 gibt es nur über beA-Rollen.
B9: 3. Blatt Mitarbeiter: eine Zeile je Person. Die Spalte Rechte laut Matrix zeigt, was im beA zu vergeben ist; die Spalte Prüfung zeigt den nächsten offenen Schritt.
B10: 4. Beim Austritt: Austrittsdatum, Datum des Entzugs und Rückgabe der Karte eintragen. Rot bleibt die Zeile, bis alles erledigt ist.
B11: 5. Blatt Rechte: die Liste aus dem Handbuch zum Nachschlagen. Blatt Beispiel: fiktive Kanzlei.
B12: Drei Regeln, die in keiner Rolle stehen
B13: Schriftsätze ohne qualifizierte elektronische Signatur darf nur die Anwältin oder der Anwalt selbst aus dem eigenen Postfach versenden. Dieses Recht ist nicht übertragbar (§ 23 Abs. 3 RAVPV). Mitarbeitende mit Recht 05 versenden nur Dokumente, die qualifiziert signiert sind.
... B20: Wer sieht bei Ihnen welche beA-Nachricht zuerst? verheyden-tech.de

Sheet Matrix
A1: beA-Rechte-Matrix: welche Kanzlei-Rolle bekommt welches Recht
A2: Vorschlag von Verheyden Tech (beige Zellen, änderbar: ja, nein, optional, fest). Rechte laut beA-Anwenderhandbuch v4.6.1, beA-Version 4.6.3 (Update 17.09.2026). Die Anwältin oder der Anwalt als Postfachinhaber hat alle Rechte und steht deshalb nicht in der Matrix.
A5: Nr. | B5: Recht (Handbuch) | C5: ReFa Sachbearbeitung | D5: Auszubildende | E5: Büroleitung | F5: Vertretung (Anwältin/Anwalt) | G5: Aushilfe / Schreibkraft | H5: Freischaltung Token | I5: Hinweis laut Handbuch
A6: 01 | B6: Nachrichtenübersicht öffnen | C6: ja | D6: ja | E6: ja | F6: fest | G6: ja | I6: Liste sichtbar, Betreff erst mit 06 oder 11
A7: 03 | B7: Nachricht erstellen | C7: ja | D7: nein | E7: ja | F7: fest | G7: nein | H7: ja | I7: nur Entwurf, kein Versand; nötig für eEB-Entwurf
A8: 05 | B8: Nachricht versenden | C8: ja | D8: nein | E8: ja | F8: optional | G8: nein | I8: enthält 03; kein eEB-Versand
A9: 06 | B9: Nachricht öffnen | C9: ja | D9: ja | E9: ja | F9: fest | G9: optional | H9: ja | I9: alle nicht vertraulichen Nachrichten lesen
A10: 07 | B10: Nachricht exportieren/drucken | C10: ja | D10: optional | E10: ja | F10: optional | G10: nein | H10: ja | I10: nicht vertrauliche Nachrichten
A11: 08 | B11: Nachricht organisieren | C11: ja | D11: ja | E11: ja | F11: optional | G11: nein | I11: Ordner, Verschieben, Etiketten
A12: 09 | B12: Nachricht in Papierkorb verschieben | C12: ja | D12: nein | E12: ja | F12: nein | G12: nein | I12: auch zurückholen
A13: 10 | B13: Nachricht löschen | C13: nein | D13: nein | E13: nein | F13: nein | G13: nein | I13: unwiederbringlich; nur nach Lesen oder Export
A14: 11 | B14: Nachricht (vertraulich) öffnen | C14: optional | D14: nein | E14: optional | F14: optional | G14: nein | H14: ja | I14: erweitert 06 auf vertrauliche Nachrichten
A15: 12 | B15: Nachricht (vertraulich) exportieren/drucken | C15: optional | D15: nein | E15: optional | F15: nein | G15: nein | H15: ja | I15: erweitert 07
A16: 13 | B16: eEBs signieren | C16: nein | D16: nein | E16: nein | F16: optional | G16: nein | H16: ja | I16: nicht vertrauliche Nachrichten
A17: 14 | B17: eEBs versenden | C17: optional | D17: nein | E17: optional | F17: fest | G17: nein | H17: ja | I17: braucht zusätzlich 03 oder 05
A18: 15 | B18: eEBs zurückweisen | C18: nein | D18: nein | E18: nein | F18: fest | G18: nein | H18: ja | I18: braucht zusätzlich 03 oder 05
A19: 16 | B19: eEBs signieren (vertrauliche Nachrichten) | C19: nein | D19: nein | E19: nein | F19: optional | G19: nein | H19: ja
A20: 17 | B20: eEBs versenden (vertrauliche Nachrichten) | C20: nein | D20: nein | E20: nein | F20: optional | G20: nein | H20: ja | I20: braucht zusätzlich 03
A21: 18 | B21: Mitarbeiter verwalten | C21: nein | D21: nein | E21: ja | F21: nein | G21: nein | I21: Benutzer anlegen/ändern, keine optionalen Rechte
A22: 19 | B22: Berechtigungen verwalten | C22: nein | D22: nein | E22: optional | F22: nein | G22: nein | H22: ja | I22: nur mit Hardware-Token (Karte)
A23: 20 | B23: Postfach- und Nachrichtenjournal verwenden | C23: ja | D23: nein | E23: ja | F23: optional | G23: nein | I23: Nachrichtenjournal braucht zusätzlich 01
A24: 30 | B24: eEBs mit VHN versenden | C24: nein | D24: nein | E24: nein | F24: fest | G24: nein | H24: ja | I24: nur Rollen Vertretung, Zustellungsbevollmächtigter, VHN-Berechtigter
A25: 31 | B25: Nachricht mit VHN versenden | C25: nein | D25: nein | E25: nein | F25: nein | G25: nein | H25: ja | I25: nur Rolle VHN-Berechtigter, nur Postfach einer Berufsausübungsgesellschaft
B27: Rechte (ja und fest) | C27: =IF(LEN(C32)>2,LEFT(C32,LEN(C32)-2),"keine") | D27: =IF(LEN(D32)>2,LEFT(D32,LEN(D32)-2),"keine") | E27: =IF(LEN(E32)>2,LEFT(E32,LEN(E32)-2),"keine") | F27: =IF(LEN(F32)>2,LEFT(F32,LEN(F32)-2),"keine") | G27: =IF(LEN(G32)>2,LEFT(G32,LEN(G32)-2),"keine")
B28: Token-Freischaltung nötig | C28: =IF(OR(OR(C7="ja",C7="fest"),OR(C9="ja",C9="fest"),OR(C10="ja",C10="fest"),OR(C14="ja",C14="fest"),OR(C15="ja",C15="fest"),OR(C16="ja",C16="fest"),OR(C17="ja",C17="fest"),OR(C18="ja",C18="fest"),OR(C19="ja",C19="fest"),OR(C20="ja",C20="fest"),OR(C22="ja",C22="fest"),OR(C24="ja",C24="fest"),OR(C25="ja",C25="fest")),"ja","nein") | D28: =IF(OR(OR(D7="ja",D7="fest"),OR(D9="ja",D9="fest"),OR(D10="ja",D10="fest"),OR(D14="ja",D14="fest"),OR(D15="ja",D15="fest"),OR(D16="ja",D16="fest"),OR(D17="ja",D17="fest"),OR(D18="ja",D18="fest"),OR(D19="ja",D19="fest"),OR(D20="ja",D20="fest"),OR(D22="ja",D22="fest"),OR(D24="ja",D24="fest"),OR(D25="ja",D25="fest")),"ja","nein") | E28: =IF(OR(OR(E7="ja",E7="fest"),OR(E9="ja",E9="fest"),OR(E10="ja",E10="fest"),OR(E14="ja",E14="fest"),OR(E15="ja",E15="fest"),OR(E16="ja",E16="fest"),OR(E17="ja",E17="fest"),OR(E18="ja",E18="fest"),OR(E19="ja",E19="fest"),OR(E20="ja",E20="fest"),OR(E22="ja",E22="fest"),OR(E24="ja",E24="fest"),OR(E25="ja",E25="fest")),"ja","nein") | F28: =IF(OR(OR(F7="ja",F7="fest"),OR(F9="ja",F9="fest"),OR(F10="ja",F10="fest"),OR(F14="ja",F14="fest"),OR(F15="ja",F15="fest"),OR(F16="ja",F16="fest"),OR(F17="ja",F17="fest"),OR(F18="ja",F18="fest"),OR(F19="ja",F19="fest"),OR(F20="ja",F20="fest"),OR(F22="ja",F22="fest"),OR(F24="ja",F24="fest"),OR(F25="ja",F25="fest")),"ja","nein") | G28: =IF(OR(OR(G7="ja",G7="fest"),OR(G9="ja",G9="fest"),OR(G10="ja",G10="fest"),OR(G14="ja",G14="fest"),OR(G15="ja",G15="fest"),OR(G16="ja",G16="fest"),OR(G17="ja",G17="fest"),OR(G18="ja",G18="fest"),OR(G19="ja",G19="fest"),OR(G20="ja",G20="fest"),OR(G22="ja",G22="fest"),OR(G24="ja",G24="fest"),OR(G25="ja",G25="fest")),"ja","nein")
B29: Hardware-Token nötig (Recht 19) | C29: =IF(OR(C22="ja",C22="fest"),"ja","nein") | D29: =IF(OR(D22="ja",D22="fest"),"ja","nein") | E29: =IF(OR(E22="ja",E22="fest"),"ja","nein") | F29: =IF(OR(F22="ja",F22="fest"),"ja","nein") | G29: =IF(OR(G22="ja",G22="fest"),"ja","nein")
B30: Prüfung der Rolle | C30: =IF((IF(AND(OR(OR(C17="ja",C17="fest"),OR(C18="ja",C18="fest")),NOT(OR(OR(C7="ja",C7="fest"),OR(C8="ja",C8="fest")))),"14/15 braucht 03 oder 05. ","")&IF(AND(OR(C20="ja",C20="fest"),NOT(OR(C7="ja",C7="fest"))),"17 braucht 03. ","")&IF(AND(OR(C23="ja",C23="fest"),NOT(OR(C6="ja",C6="fest"))),"20 braucht 01 für das Nachrichtenjournal. ","")&IF(OR(C24="ja",C25="ja"),"30/31 nur über beA-Rolle vergebbar. ","")&IF(C13="ja","10 löscht unwiederbringlich. ",""))="","in Ordnung",IF(AND(OR(OR(C17="ja",C17="fest"),OR(C18="ja",C18="fest")),NOT(OR(OR(C7="ja",C7="fest"),OR(C8="ja",C8="fest")))),"14/15 braucht 03 oder 05. ","")&IF(AND(OR(C20="ja",C20="fest"),NOT(OR(C7="ja",C7="fest"))),"17 braucht 03. ","")&IF(AND(OR(C23="ja",C23="fest"),NOT(OR(C6="ja",C6="fest"))),"20 braucht 01 für das Nachrichtenjournal. ","")&IF(OR(C24="ja",C25="ja"),"30/31 nur über beA-Rolle vergebbar. ","")&IF(C13="ja","10 löscht unwiederbringlich. ","")) | D30: =IF((IF(AND(OR(OR(D17="ja",D17="fest"),OR(D18="ja",D18="fest")),NOT(OR(OR(D7="ja",D7="fest"),OR(D8="ja",D8="fest")))),"14/15 braucht 03 oder 05. ","")&IF(AND(OR(D20="ja",D20="fest"),NOT(OR(D7="ja",D7="fest"))),"17 braucht 03. ","")&IF(AND(OR(D23="ja",D23="fest"),NOT(OR(D6="ja",D6="fest"))),"20 braucht 01 für das Nachrichtenjournal. ","")&IF(OR(D24="ja",D25="ja"),"30/31 nur über beA-Rolle vergebbar. ","")&IF(D13="ja","10 löscht unwiederbringlich. ",""))="","in Ordnung",IF(AND(OR(OR(D17="ja",D17="fest"),OR(D18="ja",D18="fest")),NOT(OR(OR(D7="ja",D7="fest"),OR(D8="ja",D8="fest")))),"14/15 braucht 03 oder 05. ","")&IF(AND(OR(D20="ja",D20="fest"),NOT(OR(D7="ja",D7="fest"))),"17 braucht 03. ","")&IF(AND(OR(D23="ja",D23="fest"),NOT(OR(D6="ja",D6="fest"))),"20 braucht 01 für das Nachrichtenjournal. ","")&IF(OR(D24="ja",D25="ja"),"30/31 nur über beA-Rolle vergebbar. ","")&IF(D13="ja","10 löscht unwiederbringlich. ","")) | E30: =IF((IF(AND(OR(OR(E17="ja",E17="fest"),OR(E18="ja",E18="fest")),NOT(OR(OR(E7="ja",E7="fest"),OR(E8="ja",E8="fest")))),"14/15 braucht 03 oder 05. ","")&IF(AND(OR(E20="ja",E20="fest"),NOT(OR(E7="ja",E7="fest"))),"17 braucht 03. ","")&IF(AND(OR(E23="ja",E23="fest"),NOT(OR(E6="ja",E6="fest"))),"20 braucht 01 für das Nachrichtenjournal. ","")&IF(OR(E24="ja",E25="ja"),"30/31 nur über beA-Rolle vergebbar. ","")&IF(E13="ja","10 löscht unwiederbringlich. ",""))="","in Ordnung",IF(AND(OR(OR(E17="ja",E17="fest"),OR(E18="ja",E18="fest")),NOT(OR(OR(E7="ja",E7="fest"),OR(E8="ja",E8="fest")))),"14/15 braucht 03 oder 05. ","")&IF(AND(OR(E20="ja",E20="fest"),NOT(OR(E7="ja",E7="fest"))),"17 braucht 03. ","")&IF(AND(OR(E23="ja",E23="fest"),NOT(OR(E6="ja",E6="fest"))),"20 braucht 01 für das Nachrichtenjournal. ","")&IF(OR(E24="ja",E25="ja"),"30/31 nur über beA-Rolle vergebbar. ","")&IF(E13="ja","10 löscht unwiederbringlich. ","")) | F30: =IF((IF(AND(OR(OR(F17="ja",F17="fest"),OR(F18="ja",F18="fest")),NOT(OR(OR(F7="ja",F7="fest"),OR(F8="ja",F8="fest")))),"14/15 braucht 03 oder 05. ","")&IF(AND(OR(F20="ja",F20="fest"),NOT(OR(F7="ja",F7="fest"))),"17 braucht 03. ","")&IF(AND(OR(F23="ja",F23="fest"),NOT(OR(F6="ja",F6="fest"))),"20 braucht 01 für das Nachrichtenjournal. ","")&IF(OR(F24="ja",F25="ja"),"30/31 nur über beA-Rolle vergebbar. ","")&IF(F13="ja","10 löscht unwiederbringlich. ",""))="","in Ordnung",IF(AND(OR(OR(F17="ja",F17="fest"),OR(F18="ja",F18="fest")),NOT(OR(OR(F7="ja",F7="fest"),OR(F8="ja",F8="fest")))),"14/15 braucht 03 oder 05. ","")&IF(AND(OR(F20="ja",F20="fest"),NOT(OR(F7="ja",F7="fest"))),"17 braucht 03. ","")&IF(AND(OR(F23="ja",F23="fest"),NOT(OR(F6="ja",F6="fest"))),"20 braucht 01 für das Nachrichtenjournal. ","")&IF(OR(F24="ja",F25="ja"),"30/31 nur über beA-Rolle vergebbar. ","")&IF(F13="ja","10 löscht unwiederbringlich. ","")) | G30: =IF((IF(AND(OR(OR(G17="ja",G17="fest"),OR(G18="ja",G18="fest")),NOT(OR(OR(G7="ja",G7="fest"),OR(G8="ja",G8="fest")))),"14/15 braucht 03 oder 05. ","")&IF(AND(OR(G20="ja",G20="fest"),NOT(OR(G7="ja",G7="fest"))),"17 braucht 03. ","")&IF(AND(OR(G23="ja",G23="fest"),NOT(OR(G6="ja",G6="fest"))),"20 braucht 01 für das Nachrichtenjournal. ","")&IF(OR(G24="ja",G25="ja"),"30/31 nur über beA-Rolle vergebbar. ","")&IF(G13="ja","10 löscht unwiederbringlich. ",""))="","in Ordnung",IF(AND(OR(OR(G17="ja",G17="fest"),OR(G18="ja",G18="fest")),NOT(OR(OR(G7="ja",G7="fest"),OR(G8="ja",G8="fest")))),"14/15 braucht 03 oder 05. ","")&IF(AND(OR(G20="ja",G20="fest"),NOT(OR(G7="ja",G7="fest"))),"17 braucht 03. ","")&IF(AND(OR(G23="ja",G23="fest"),NOT(OR(G6="ja",G6="fest"))),"20 braucht 01 für das Nachrichtenjournal. ","")&IF(OR(G24="ja",G25="ja"),"30/31 nur über beA-Rolle vergebbar. ","")&IF(G13="ja","10 löscht unwiederbringlich. ",""))
B32: Hilfszeile | C32: =IF(OR(C6="ja",C6="fest"),"01, ","")&IF(OR(C7="ja",C7="fest"),"03, ","")&IF(OR(C8="ja",C8="fest"),"05, ","")&IF(OR(C9="ja",C9="fest"),"06, ","")&IF(OR(C10="ja",C10="fest"),"07, ","")&IF(OR(C11="ja",C11="fest"),"08, ","")&IF(OR(C12="ja",C12="fest"),"09, ","")&IF(OR(C13="ja",C13="fest"),"10, ","")&IF(OR(C14="ja",C14="fest"),"11, ","")&IF(OR(C15="ja",C15="fest"),"12, ","")&IF(OR(C16="ja",C16="fest"),"13, ","")&IF(OR(C17="ja",C17="fest"),"14, ","")&IF(OR(C18="ja",C18="fest"),"15, ","")&IF(OR(C19="ja",C19="fest"),"16, ","")&IF(OR(C20="ja",C20="fest"),"17, ","")&IF(OR(C21="ja",C21="fest"),"18, ","")&IF(OR(C22="ja",C22="fest"),"19, ","")&IF(OR(C23="ja",C23="fest"),"20, ","")&IF(OR(C24="ja",C24="fest"),"30, ","")&IF(OR(C25="ja",C25="fest"),"31, ","") | D32: =IF(OR(D6="ja",D6="fest"),"01, ","")&IF(OR(D7="ja",D7="fest"),"03, ","")&IF(OR(D8="ja",D8="fest"),"05, ","")&IF(OR(D9="ja",D9="fest"),"06, ","")&IF(OR(D10="ja",D10="fest"),"07, ","")&IF(OR(D11="ja",D11="fest"),"08, ","")&IF(OR(D12="ja",D12="fest"),"09, ","")&IF(OR(D13="ja",D13="fest"),"10, ","")&IF(OR(D14="ja",D14="fest"),"11, ","")&IF(OR(D15="ja",D15="fest"),"12, ","")&IF(OR(D16="ja",D16="fest"),"13, ","")&IF(OR(D17="ja",D17="fest"),"14, ","")&IF(OR(D18="ja",D18="fest"),"15, ","")&IF(OR(D19="ja",D19="fest"),"16, ","")&IF(OR(D20="ja",D20="fest"),"17, ","")&IF(OR(D21="ja",D21="fest"),"18, ","")&IF(OR(D22="ja",D22="fest"),"19, ","")&IF(OR(D23="ja",D23="fest"),"20, ","")&IF(OR(D24="ja",D24="fest"),"30, ","")&IF(OR(D25="ja",D25="fest"),"31, ","") | E32: =IF(OR(E6="ja",E6="fest"),"01, ","")&IF(OR(E7="ja",E7="fest"),"03, ","")&IF(OR(E8="ja",E8="fest"),"05, ","")&IF(OR(E9="ja",E9="fest"),"06, ","")&IF(OR(E10="ja",E10="fest"),"07, ","")&IF(OR(E11="ja",E11="fest"),"08, ","")&IF(OR(E12="ja",E12="fest"),"09, ","")&IF(OR(E13="ja",E13="fest"),"10, ","")&IF(OR(E14="ja",E14="fest"),"11, ","")&IF(OR(E15="ja",E15="fest"),"12, ","")&IF(OR(E16="ja",E16="fest"),"13, ","")&IF(OR(E17="ja",E17="fest"),"14, ","")&IF(OR(E18="ja",E18="fest"),"15, ","")&IF(OR(E19="ja",E19="fest"),"16, ","")&IF(OR(E20="ja",E20="fest"),"17, ","")&IF(OR(E21="ja",E21="fest"),"18, ","")&IF(OR(E22="ja",E22="fest"),"19, ","")&IF(OR(E23="ja",E23="fest"),"20, ","")&IF(OR(E24="ja",E24="fest"),"30, ","")&IF(OR(E25="ja",E25="fest"),"31, ","") | F32: =IF(OR(F6="ja",F6="fest"),"01, ","")&IF(OR(F7="ja",F7="fest"),"03, ","")&IF(OR(F8="ja",F8="fest"),"05, ","")&IF(OR(F9="ja",F9="fest"),"06, ","")&IF(OR(F10="ja",F10="fest"),"07, ","")&IF(OR(F11="ja",F11="fest"),"08, ","")&IF(OR(F12="ja",F12="fest"),"09, ","")&IF(OR(F13="ja",F13="fest"),"10, ","")&IF(OR(F14="ja",F14="fest"),"11, ","")&IF(OR(F15="ja",F15="fest"),"12, ","")&IF(OR(F16="ja",F16="fest"),"13, ","")&IF(OR(F17="ja",F17="fest"),"14, ","")&IF(OR(F18="ja",F18="fest"),"15, ","")&IF(OR(F19="ja",F19="fest"),"16, ","")&IF(OR(F20="ja",F20="fest"),"17, ","")&IF(OR(F21="ja",F21="fest"),"18, ","")&IF(OR(F22="ja",F22="fest"),"19, ","")&IF(OR(F23="ja",F23="fest"),"20, ","")&IF(OR(F24="ja",F24="fest"),"30, ","")&IF(OR(F25="ja",F25="fest"),"31, ","") | G32: =IF(OR(G6="ja",G6="fest"),"01, ","")&IF(OR(G7="ja",G7="fest"),"03, ","")&IF(OR(G8="ja",G8="fest"),"05, ","")&IF(OR(G9="ja",G9="fest"),"06, ","")&IF(OR(G10="ja",G10="fest"),"07, ","")&IF(OR(G11="ja",G11="fest"),"08, ","")&IF(OR(G12="ja",G12="fest"),"09, ","")&IF(OR(G13="ja",G13="fest"),"10, ","")&IF(OR(G14="ja",G14="fest"),"11, ","")&IF(OR(G15="ja",G15="fest"),"12, ","")&IF(OR(G16="ja",G16="fest"),"13, ","")&IF(OR(G17="ja",G17="fest"),"14, ","")&IF(OR(G18="ja",G18="fest"),"15, ","")&IF(OR(G19="ja",G19="fest"),"16, ","")&IF(OR(G20="ja",G20="fest"),"17, ","")&IF(OR(G21="ja",G21="fest"),"18, ","")&IF(OR(G22="ja",G22="fest"),"19, ","")&IF(OR(G23="ja",G23="fest"),"20, ","")&IF(OR(G24="ja",G24="fest"),"30, ","")&IF(OR(G25="ja",G25="fest"),"31, ","")

Sheet Mitarbeiter
A1: beA-Zugänge der Mitarbeitenden
A2: Eine Zeile je Person. Beige = Eingabe. Die Spalte Prüfung zeigt, was noch fehlt.
A3: Stichtag | B3: =TODAY() | C3: (Vorgabe: heute; für Prüfungen zu einem anderen Datum überschreiben)
A6: Name | B6: Kanzlei-Rolle (Matrix) | C6: beA-Rolle | D6: Sicherheits-Token | E6: Token bestellt am | F6: Registriert am | G6: Rechte vergeben am | H6: Vergeben von | I6: Token freigeschaltet am | J6: Gültig bis (optional) | K6: Verschwiegenheit verpflichtet am | L6: Austritt am | M6: Rechte entzogen am | N6: Karte zurück / PIN neu am | O6: Rechte laut Matrix | P6: Prüfung
O7: =IF(B7="","",IFERROR(INDEX(Matrix!$C$27:$G$27,MATCH(B7,Matrix!$C$5:$G$5,0)),"Rolle nicht in der Matrix")) | P7: =IF(A7="","",IF(AND(L7<>"",M7=""),"AUSTRITT: Rechte sofort entziehen",IF(AND(L7<>"",N7="",D7<>"beA-Karte Basis (eigenes Postfach)"),"AUSTRITT: Karte zurücknehmen oder Zertifikat löschen, PIN neu",IF(L7<>"","ausgeschieden, erledigt",IF(B7="","Kanzlei-Rolle wählen",IF(ISNA(MATCH(B7,Matrix!$C$5:$G$5,0)),"Kanzlei-Rolle nicht in der Matrix",IF(AND(C7="Vertretung",D7<>"beA-Karte Basis (eigenes Postfach)"),"Rolle Vertretung nur mit eigenem Postfach",IF(AND(IFERROR(INDEX(Matrix!$C$29:$G$29,MATCH(B7,Matrix!$C$5:$G$5,0))="ja",FALSE()),D7="Softwarezertifikat"),"Recht 19 geht nur mit Hardware-Token (Karte)",IF(AND(K7="",D7<>"beA-Karte Basis (eigenes Postfach)"),"Verschwiegenheitsverpflichtung fehlt (§ 43a Abs. 2 BRAO)",IF(G7="","Rechte noch nicht vergeben",IF(AND(IFERROR(INDEX(Matrix!$C$28:$G$28,MATCH(B7,Matrix!$C$5:$G$5,0))="ja",FALSE()),I7=""),"Token freischalten (Hardware-Token Inhaber oder Recht 19)",IF(AND(J7<>"",J7<$B$3),"Befristung abgelaufen: Rechte prüfen",IF(AND(J7<>"",J7-$B$3<=14),"Befristung endet in 14 Tagen oder früher",IF(IFERROR(INDEX(Matrix!$C$30:$G$30,MATCH(B7,Matrix!$C$5:$G$5,0)),"in Ordnung")<>"in Ordnung","Matrix prüfen: "&IFERROR(INDEX(Matrix!$C$30:$G$30,MATCH(B7,Matrix!$C$5:$G$5,0)),"in Ordnung"),"in Ordnung"))))))))))))))
O8: =IF(B8="","",IFERROR(INDEX(Matrix!$C$27:$G$27,MATCH(B8,Matrix!$C$5:$G$5,0)),"Rolle nicht in der Matrix")) | P8: =IF(A8="","",IF(AND(L8<>"",M8=""),"AUSTRITT: Rechte sofort entziehen",IF(AND(L8<>"",N8="",D8<>"beA-Karte Basis (eigenes Postfach)"),"AUSTRITT: Karte zurücknehmen oder Zertifikat löschen, PIN neu",IF(L8<>"","ausgeschieden, erledigt",IF(B8="","Kanzlei-Rolle wählen",IF(ISNA(MATCH(B8,Matrix!$C$5:$G$5,0)),"Kanzlei-Rolle nicht in der Matrix",IF(AND(C8="Vertretung",D8<>"beA-Karte Basis (eigenes Postfach)"),"Rolle Vertretung nur mit eigenem Postfach",IF(AND(IFERROR(INDEX(Matrix!$C$29:$G$29,MATCH(B8,Matrix!$C$5:$G$5,0))="ja",FALSE()),D8="Softwarezertifikat"),"Recht 19 geht nur mit Hardware-Token (Karte)",IF(AND(K8="",D8<>"beA-Karte Basis (eigenes Postfach)"),"Verschwiegenheitsverpflichtung fehlt (§ 43a Abs. 2 BRAO)",IF(G8="","Rechte noch nicht vergeben",IF(AND(IFERROR(INDEX(Matrix!$C$28:$G$28,MATCH(B8,Matrix!$C$5:$G$5,0))="ja",FALSE()),I8=""),"Token freischalten (Hardware-Token Inhaber oder Recht 19)",IF(AND(J8<>"",J8<$B$3),"Befristung abgelaufen: Rechte prüfen",IF(AND(J8<>"",J8-$B$3<=14),"Befristung endet in 14 Tagen oder früher",IF(IFERROR(INDEX(Matrix!$C$30:$G$30,MATCH(B8,Matrix!$C$5:$G$5,0)),"in Ordnung")<>"in Ordnung","Matrix prüfen: "&IFERROR(INDEX(Matrix!$C$30:$G$30,MATCH(B8,Matrix!$C$5:$G$5,0)),"in Ordnung"),"in Ordnung"))))))))))))))
O9: =IF(B9="","",IFERROR(INDEX(Matrix!$C$27:$G$27,MATCH(B9,Matrix!$C$5:$G$5,0)),"Rolle nicht in der Matrix")) | P9: =IF(A9="","",IF(AND(L9<>"",M9=""),"AUSTRITT: Rechte sofort entziehen",IF(AND(L9<>"",N9="",D9<>"beA-Karte Basis (eigenes Postfach)"),"AUSTRITT: Karte zurücknehmen oder Zertifikat löschen, PIN neu",IF(L9<>"","ausgeschieden, erledigt",IF(B9="","Kanzlei-Rolle wählen",IF(ISNA(MATCH(B9,Matrix!$C$5:$G$5,0)),"Kanzlei-Rolle nicht in der Matrix",IF(AND(C9="Vertretung",D9<>"beA-Karte Basis (eigenes Postfach)"),"Rolle Vertretung nur mit eigenem Postfach",IF(AND(IFERROR(INDEX(Matrix!$C$29:$G$29,MATCH(B9,Matrix!$C$5:$G$5,0))="ja",FALSE()),D9="Softwarezertifikat"),"Recht 19 geht nur mit Hardware-Token (Karte)",IF(AND(K9="",D9<>"beA-Karte Basis (eigenes Postfach)"),"Verschwiegenheitsverpflichtung fehlt (§ 43a Abs. 2 BRAO)",IF(G9="","Rechte noch nicht vergeben",IF(AND(IFERROR(INDEX(Matrix!$C$28:$G$28,MATCH(B9,Matrix!$C$5:$G$5,0))="ja",FALSE()),I9=""),"Token freischalten (Hardware-Token Inhaber oder Recht 19)",IF(AND(J9<>"",J9<$B$3),"Befristung abgelaufen: Rechte prüfen",IF(AND(J9<>"",J9-$B$3<=14),"Befristung endet in 14 Tagen oder früher",IF(IFERROR(INDEX(Matrix!$C$30:$G$30,MATCH(B9,Matrix!$C$5:$G$5,0)),"in Ordnung")<>"in Ordnung","Matrix prüfen: "&IFERROR(INDEX(Matrix!$C$30:$G$30,MATCH(B9,Matrix!$C$5:$G$5,0)),"in Ordnung"),"in Ordnung"))))))))))))))
O10: =IF(B10="","",IFERROR(INDEX(Matrix!$C$27:$G$27,MATCH(B10,Matrix!$C$5:$G$5,0)),"Rolle nicht in der Matrix")) | P10: =IF(A10="","",IF(AND(L10<>"",M10=""),"AUSTRITT: Rechte sofort entziehen",IF(AND(L10<>"",N10="",D10<>"beA-Karte Basis (eigenes Postfach)"),"AUSTRITT: Karte zurücknehmen oder Zertifikat löschen, PIN neu",IF(L10<>"","ausgeschieden, erledigt",IF(B10="","Kanzlei-Rolle wählen",IF(ISNA(MATCH(B10,Matrix!$C$5:$G$5,0)),"Kanzlei-Rolle nicht in der Matrix",IF(AND(C10="Vertretung",D10<>"beA-Karte Basis (eigenes Postfach)"),"Rolle Vertretung nur mit eigenem Postfach",IF(AND(IFERROR(INDEX(Matrix!$C$29:$G$29,MATCH(B10,Matrix!$C$5:$G$5,0))="ja",FALSE()),D10="Softwarezertifikat"),"Recht 19 geht nur mit Hardware-Token (Karte)",IF(AND(K10="",D10<>"beA-Karte Basis (eigenes Postfach)"),"Verschwiegenheitsverpflichtung fehlt (§ 43a Abs. 2 BRAO)",IF(G10="","Rechte noch nicht vergeben",IF(AND(IFERROR(INDEX(Matrix!$C$28:$G$28,MATCH(B10,Matrix!$C$5:$G$5,0))="ja",FALSE()),I10=""),"Token freischalten (Hardware-Token Inhaber oder Recht 19)",IF(AND(J10<>"",J10<$B$3),"Befristung abgelaufen: Rechte prüfen",IF(AND(J10<>"",J10-$B$3<=14),"Befristung endet in 14 Tagen oder früher",IF(IFERROR(INDEX(Matrix!$C$30:$G$30,MATCH(B10,Matrix!$C$5:$G$5,0)),"in Ordnung")<>"in Ordnung","Matrix prüfen: "&IFERROR(INDEX(Matrix!$C$30:$G$30,MATCH(B10,Matrix!$C$5:$G$5,0)),"in Ordnung"),"in Ordnung"))))))))))))))
O11: =IF(B11="","",IFERROR(INDEX(Matrix!$C$27:$G$27,MATCH(B11,Matrix!$C$5:$G$5,0)),"Rolle nicht in der Matrix")) | P11: =IF(A11="","",IF(AND(L11<>"",M11=""),"AUSTRITT: Rechte sofort entziehen",IF(AND(L11<>"",N11="",D11<>"beA-Karte Basis (eigenes Postfach)"),"AUSTRITT: Karte zurücknehmen oder Zertifikat löschen, PIN neu",IF(L11<>"","ausgeschieden, erledigt",IF(B11="","Kanzlei-Rolle wählen",IF(ISNA(MATCH(B11,Matrix!$C$5:$G$5,0)),"Kanzlei-Rolle nicht in der Matrix",IF(AND(C11="Vertretung",D11<>"beA-Karte Basis (eigenes Postfach)"),"Rolle Vertretung nur mit eigenem Postfach",IF(AND(IFERROR(INDEX(Matrix!$C$29:$G$29,MATCH(B11,Matrix!$C$5:$G$5,0))="ja",FALSE()),D11="Softwarezertifikat"),"Recht 19 geht nur mit Hardware-Token (Karte)",IF(AND(K11="",D11<>"beA-Karte Basis (eigenes Postfach)"),"Verschwiegenheitsverpflichtung fehlt (§ 43a Abs. 2 BRAO)",IF(G11="","Rechte noch nicht vergeben",IF(AND(IFERROR(INDEX(Matrix!$C$28:$G$28,MATCH(B11,Matrix!$C$5:$G$5,0))="ja",FALSE()),I11=""),"Token freischalten (Hardware-Token Inhaber oder Recht 19)",IF(AND(J11<>"",J11<$B$3),"Befristung abgelaufen: Rechte prüfen",IF(AND(J11<>"",J11-$B$3<=14),"Befristung endet in 14 Tagen oder früher",IF(IFERROR(INDEX(Matrix!$C$30:$G$30,MATCH(B11,Matrix!$C$5:$G$5,0)),"in Ordnung")<>"in Ordnung","Matrix prüfen: "&IFERROR(INDEX(Matrix!$C$30:$G$30,MATCH(B11,Matrix!$C$5:$G$5,0)),"in Ordnung"),"in Ordnung"))))))))))))))
O12: =IF(B12="","",IFERROR(INDEX(Matrix!$C$27:$G$27,MATCH(B12,Matrix!$C$5:$G$5,0)),"Rolle nicht in der Matrix")) | P12: =IF(A12="","",IF(AND(L12<>"",M12=""),"AUSTRITT: Rechte sofort entziehen",IF(AND(L12<>"",N12="",D12<>"beA-Karte Basis (eigenes Postfach)"),"AUSTRITT: Karte zurücknehmen oder Zertifikat löschen, PIN neu",IF(L12<>"","ausgeschieden, erledigt",IF(B12="","Kanzlei-Rolle wählen",IF(ISNA(MATCH(B12,Matrix!$C$5:$G$5,0)),"Kanzlei-Rolle nicht in der Matrix",IF(AND(C12="Vertretung",D12<>"beA-Karte Basis (eigenes Postfach)"),"Rolle Vertretung nur mit eigenem Postfach",IF(AND(IFERROR(INDEX(Matrix!$C$29:$G$29,MATCH(B12,Matrix!$C$5:$G$5,0))="ja",FALSE()),D12="Softwarezertifikat"),"Recht 19 geht nur mit Hardware-Token (Karte)",IF(AND(K12="",D12<>"beA-Karte Basis (eigenes Postfach)"),"Verschwiegenheitsverpflichtung fehlt (§ 43a Abs. 2 BRAO)",IF(G12="","Rechte noch nicht vergeben",IF(AND(IFERROR(INDEX(Matrix!$C$28:$G$28,MATCH(B12,Matrix!$C$5:$G$5,0))="ja",FALSE()),I12=""),"Token freischalten (Hardware-Token Inhaber oder Recht 19)",IF(AND(J12<>"",J12<$B$3),"Befristung abgelaufen: Rechte prüfen",IF(AND(J12<>"",J12-$B$3<=14),"Befristung endet in 14 Tagen oder früher",IF(IFERROR(INDEX(Matrix!$C$30:$G$30,MATCH(B12,Matrix!$C$5:$G$5,0)),"in Ordnung")<>"in Ordnung","Matrix prüfen: "&IFERROR(INDEX(Matrix!$C$30:$G$30,MATCH(B12,Matrix!$C$5:$G$5,0)),"in Ordnung"),"in Ordnung"))))))))))))))
O13: =IF(B13="","",IFERROR(INDEX(Matrix!$C$27:$G$27,MATCH(B13,Matrix!$C$5:$G$5,0)),"Rolle nicht in der Matrix")) | P13: =IF(A13="","",IF(AND(L13<>"",M13=""),"AUSTRITT: Rechte sofort entziehen",IF(AND(L13<>"",N13="",D13<>"beA-Karte Basis (eigenes Postfach)"),"AUSTRITT: Karte zurücknehmen oder Zertifikat löschen, PIN neu",IF(L13<>"","ausgeschieden, erledigt",IF(B13="","Kanzlei-Rolle wählen",IF(ISNA(MATCH(B13,Matrix!$C$5:$G$5,0)),"Kanzlei-Rolle nicht in der Matrix",IF(AND(C13="Vertretung",D13<>"beA-Karte Basis (eigenes Postfach)"),"Rolle Vertretung nur mit eigenem Postfach",IF(AND(IFERROR(INDEX(Matrix!$C$29:$G$29,MATCH(B13,Matrix!$C$5:$G$5,0))="ja",FALSE()),D13="Softwarezertifikat"),"Recht 19 geht nur mit Hardware-Token (Karte)",IF(AND(K13="",D13<>"beA-Karte Basis (eigenes Postfach)"),"Verschwiegenheitsverpflichtung fehlt (§ 43a Abs. 2 BRAO)",IF(G13="","Rechte noch nicht vergeben",IF(AND(IFERROR(INDEX(Matrix!$C$28:$G$28,MATCH(B13,Matrix!$C$5:$G$5,0))="ja",FALSE()),I13=""),"Token freischalten (Hardware-Token Inhaber oder Recht 19)",IF(AND(J13<>"",J13<$B$3),"Befristung abgelaufen: Rechte prüfen",IF(AND(J13<>"",J13-$B$3<=14),"Befristung endet in 14 Tagen oder früher",IF(IFERROR(INDEX(Matrix!$C$30:$G$30,MATCH(B13,Matrix!$C$5:$G$5,0)),"in Ordnung")<>"in Ordnung","Matrix prüfen: "&IFERROR(INDEX(Matrix!$C$30:$G$30,MATCH(B13,Matrix!$C$5:$G$5,0)),"in Ordnung"),"in Ordnung"))))))))))))))
O14: =IF(B14="","",IFERROR(INDEX(Matrix!$C$27:$G$27,MATCH(B14,Matrix!$C$5:$G$5,0)),"Rolle nicht in der Matrix")) | P14: =IF(A14="","",IF(AND(L14<>"",M14=""),"AUSTRITT: Rechte sofort entziehen",IF(AND(L14<>"",N14="",D14<>"beA-Karte Basis (eigenes Postfach)"),"AUSTRITT: Karte zurücknehmen oder Zertifikat löschen, PIN neu",IF(L14<>"","ausgeschieden, erledigt",IF(B14="","Kanzlei-Rolle wählen",IF(ISNA(MATCH(B14,Matrix!$C$5:$G$5,0)),"Kanzlei-Rolle nicht in der Matrix",IF(AND(C14="Vertretung",D14<>"beA-Karte Basis (eigenes Postfach)"),"Rolle Vertretung nur mit eigenem Postfach",IF(AND(IFERROR(INDEX(Matrix!$C$29:$G$29,MATCH(B14,Matrix!$C$5:$G$5,0))="ja",FALSE()),D14="Softwarezertifikat"),"Recht 19 geht nur mit Hardware-Token (Karte)",IF(AND(K14="",D14<>"beA-Karte Basis (eigenes Postfach)"),"Verschwiegenheitsverpflichtung fehlt (§ 43a Abs. 2 BRAO)",IF(G14="","Rechte noch nicht vergeben",IF(AND(IFERROR(INDEX(Matrix!$C$28:$G$28,MATCH(B14,Matrix!$C$5:$G$5,0))="ja",FALSE()),I14=""),"Token freischalten (Hardware-Token Inhaber oder Recht 19)",IF(AND(J14<>"",J14<$B$3),"Befristung abgelaufen: Rechte prüfen",IF(AND(J14<>"",J14-$B$3<=14),"Befristung endet in 14 Tagen oder früher",IF(IFERROR(INDEX(Matrix!$C$30:$G$30,MATCH(B14,Matrix!$C$5:$G$5,0)),"in Ordnung")<>"in Ordnung","Matrix prüfen: "&IFERROR(INDEX(Matrix!$C$30:$G$30,MATCH(B14,Matrix!$C$5:$G$5,0)),"in Ordnung"),"in Ordnung"))))))))))))))
O15: =IF(B15="","",IFERROR(INDEX(Matrix!$C$27:$G$27,MATCH(B15,Matrix!$C$5:$G$5,0)),"Rolle nicht in der Matrix")) | P15: =IF(A15="","",IF(AND(L15<>"",M15=""),"AUSTRITT: Rechte sofort entziehen",IF(AND(L15<>"",N15="",D15<>"beA-Karte Basis (eigenes Postfach)"),"AUSTRITT: Karte zurücknehmen oder Zertifikat löschen, PIN neu",IF(L15<>"","ausgeschieden, erledigt",IF(B15="","Kanzlei-Rolle wählen",IF(ISNA(MATCH(B15,Matrix!$C$5:$G$5,0)),"Kanzlei-Rolle nicht in der Matrix",IF(AND(C15="Vertretung",D15<>"beA-Karte Basis (eigenes Postfach)"),"Rolle Vertretung nur mit eigenem Postfach",IF(AND(IFERROR(INDEX(Matrix!$C$29:$G$29,MATCH(B15,Matrix!$C$5:$G$5,0))="ja",FALSE()),D15="Softwarezertifikat"),"Recht 19 geht nur mit Hardware-Token (Karte)",IF(AND(K15="",D15<>"beA-Karte Basis (eigenes Postfach)"),"Verschwiegenheitsverpflichtung fehlt (§ 43a Abs. 2 BRAO)",IF(G15="","Rechte noch nicht vergeben",IF(AND(IFERROR(INDEX(Matrix!$C$28:$G$28,MATCH(B15,Matrix!$C$5:$G$5,0))="ja",FALSE()),I15=""),"Token freischalten (Hardware-Token Inhaber oder Recht 19)",IF(AND(J15<>"",J15<$B$3),"Befristung abgelaufen: Rechte prüfen",IF(AND(J15<>"",J15-$B$3<=14),"Befristung endet in 14 Tagen oder früher",IF(IFERROR(INDEX(Matrix!$C$30:$G$30,MATCH(B15,Matrix!$C$5:$G$5,0)),"in Ordnung")<>"in Ordnung","Matrix prüfen: "&IFERROR(INDEX(Matrix!$C$30:$G$30,MATCH(B15,Matrix!$C$5:$G$5,0)),"in Ordnung"),"in Ordnung"))))))))))))))
O16: =IF(B16="","",IFERROR(INDEX(Matrix!$C$27:$G$27,MATCH(B16,Matrix!$C$5:$G$5,0)),"Rolle nicht in der Matrix")) | P16: =IF(A16="","",IF(AND(L16<>"",M16=""),"AUSTRITT: Rechte sofort entziehen",IF(AND(L16<>"",N16="",D16<>"beA-Karte Basis (eigenes Postfach)"),"AUSTRITT: Karte zurücknehmen oder Zertifikat löschen, PIN neu",IF(L16<>"","ausgeschieden, erledigt",IF(B16="","Kanzlei-Rolle wählen",IF(ISNA(MATCH(B16,Matrix!$C$5:$G$5,0)),"Kanzlei-Rolle nicht in der Matrix",IF(AND(C16="Vertretung",D16<>"beA-Karte Basis (eigenes Postfach)"),"Rolle Vertretung nur mit eigenem Postfach",IF(AND(IFERROR(INDEX(Matrix!$C$29:$G$29,MATCH(B16,Matrix!$C$5:$G$5,0))="ja",FALSE()),D16="Softwarezertifikat"),"Recht 19 geht nur mit Hardware-Token (Karte)",IF(AND(K16="",D16<>"beA-Karte Basis (eigenes Postfach)"),"Verschwiegenheitsverpflichtung fehlt (§ 43a Abs. 2 BRAO)",IF(G16="","Rechte noch nicht vergeben",IF(AND(IFERROR(INDEX(Matrix!$C$28:$G$28,MATCH(B16,Matrix!$C$5:$G$5,0))="ja",FALSE()),I16=""),"Token freischalten (Hardware-Token Inhaber oder Recht 19)",IF(AND(J16<>"",J16<$B$3),"Befristung abgelaufen: Rechte prüfen",IF(AND(J16<>"",J16-$B$3<=14),"Befristung endet in 14 Tagen oder früher",IF(IFERROR(INDEX(Matrix!$C$30:$G$30,MATCH(B16,Matrix!$C$5:$G$5,0)),"in Ordnung")<>"in Ordnung","Matrix prüfen: "&IFERROR(INDEX(Matrix!$C$30:$G$30,MATCH(B16,Matrix!$C$5:$G$5,0)),"in Ordnung"),"in Ordnung"))))))))))))))
O17: =IF(B17="","",IFERROR(INDEX(Matrix!$C$27:$G$27,MATCH(B17,Matrix!$C$5:$G$5,0)),"Rolle nicht in der Matrix")) | P17: =IF(A17="","",IF(AND(L17<>"",M17=""),"AUSTRITT: Rechte sofort entziehen",IF(AND(L17<>"",N17="",D17<>"beA-Karte Basis (eigenes Postfach)"),"AUSTRITT: Karte zurücknehmen oder Zertifikat löschen, PIN neu",IF(L17<>"","ausgeschieden, erledigt",IF(B17="","Kanzlei-Rolle wählen",IF(ISNA(MATCH(B17,Matrix!$C$5:$G$5,0)),"Kanzlei-Rolle nicht in der Matrix",IF(AND(C17="Vertretung",D17<>"beA-Karte Basis (eigenes Postfach)"),"Rolle Vertretung nur mit eigenem Postfach",IF(AND(IFERROR(INDEX(Matrix!$C$29:$G$29,MATCH(B17,Matrix!$C$5:$G$5,0))="ja",FALSE()),D17="Softwarezertifikat"),"Recht 19 geht nur mit Hardware-Token (Karte)",IF(AND(K17="",D17<>"beA-Karte Basis (eigenes Postfach)"),"Verschwiegenheitsverpflichtung fehlt (§ 43a Abs. 2 BRAO)",IF(G17="","Rechte noch nicht vergeben",IF(AND(IFERROR(INDEX(Matrix!$C$28:$G$28,MATCH(B17,Matrix!$C$5:$G$5,0))="ja",FALSE()),I17=""),"Token freischalten (Hardware-Token Inhaber oder Recht 19)",IF(AND(J17<>"",J17<$B$3),"Befristung abgelaufen: Rechte prüfen",IF(AND(J17<>"",J17-$B$3<=14),"Befristung endet in 14 Tagen oder früher",IF(IFERROR(INDEX(Matrix!$C$30:$G$30,MATCH(B17,Matrix!$C$5:$G$5,0)),"in Ordnung")<>"in Ordnung","Matrix prüfen: "&IFERROR(INDEX(Matrix!$C$30:$G$30,MATCH(B17,Matrix!$C$5:$G$5,0)),"in Ordnung"),"in Ordnung"))))))))))))))
O18: =IF(B18="","",IFERROR(INDEX(Matrix!$C$27:$G$27,MATCH(B18,Matrix!$C$5:$G$5,0)),"Rolle nicht in der Matrix")) | P18: =IF(A18="","",IF(AND(L18<>"",M18=""),"AUSTRITT: Rechte sofort entziehen",IF(AND(L18<>"",N18="",D18<>"beA-Karte Basis (eigenes Postfach)"),"AUSTRITT: Karte zurücknehmen oder Zertifikat löschen, PIN neu",IF(L18<>"","ausgeschieden, erledigt",IF(B18="","Kanzlei-Rolle wählen",IF(ISNA(MATCH(B18,Matrix!$C$5:$G$5,0)),"Kanzlei-Rolle nicht in der Matrix",IF(AND(C18="Vertretung",D18<>"beA-Karte Basis (eigenes Postfach)"),"Rolle Vertretung nur mit eigenem Postfach",IF(AND(IFERROR(INDEX(Matrix!$C$29:$G$29,MATCH(B18,Matrix!$C$5:$G$5,0))="ja",FALSE()),D18="Softwarezertifikat"),"Recht 19 geht nur mit Hardware-Token (Karte)",IF(AND(K18="",D18<>"beA-Karte Basis (eigenes Postfach)"),"Verschwiegenheitsverpflichtung fehlt (§ 43a Abs. 2 BRAO)",IF(G18="","Rechte noch nicht vergeben",IF(AND(IFERROR(INDEX(Matrix!$C$28:$G$28,MATCH(B18,Matrix!$C$5:$G$5,0))="ja",FALSE()),I18=""),"Token freischalten (Hardware-Token Inhaber oder Recht 19)",IF(AND(J18<>"",J18<$B$3),"Befristung abgelaufen: Rechte prüfen",IF(AND(J18<>"",J18-$B$3<=14),"Befristung endet in 14 Tagen oder früher",IF(IFERROR(INDEX(Matrix!$C$30:$G$30,MATCH(B18,Matrix!$C$5:$G$5,0)),"in Ordnung")<>"in Ordnung","Matrix prüfen: "&IFERROR(INDEX(Matrix!$C$30:$G$30,MATCH(B18,Matrix!$C$5:$G$5,0)),"in Ordnung"),"in Ordnung"))))))))))))))
... O46: =IF(B46="","",IFERROR(INDEX(Matrix!$C$27:$G$27,MATCH(B46,Matrix!$C$5:$G$5,0)),"Rolle nicht in der Matrix")) | P46: =IF(A46="","",IF(AND(L46<>"",M46=""),"AUSTRITT: Rechte sofort entziehen",IF(AND(L46<>"",N46="",D46<>"beA-Karte Basis (eigenes Postfach)"),"AUSTRITT: Karte zurücknehmen oder Zertifikat löschen, PIN neu",IF(L46<>"","ausgeschieden, erledigt",IF(B46="","Kanzlei-Rolle wählen",IF(ISNA(MATCH(B46,Matrix!$C$5:$G$5,0)),"Kanzlei-Rolle nicht in der Matrix",IF(AND(C46="Vertretung",D46<>"beA-Karte Basis (eigenes Postfach)"),"Rolle Vertretung nur mit eigenem Postfach",IF(AND(IFERROR(INDEX(Matrix!$C$29:$G$29,MATCH(B46,Matrix!$C$5:$G$5,0))="ja",FALSE()),D46="Softwarezertifikat"),"Recht 19 geht nur mit Hardware-Token (Karte)",IF(AND(K46="",D46<>"beA-Karte Basis (eigenes Postfach)"),"Verschwiegenheitsverpflichtung fehlt (§ 43a Abs. 2 BRAO)",IF(G46="","Rechte noch nicht vergeben",IF(AND(IFERROR(INDEX(Matrix!$C$28:$G$28,MATCH(B46,Matrix!$C$5:$G$5,0))="ja",FALSE()),I46=""),"Token freischalten (Hardware-Token Inhaber oder Recht 19)",IF(AND(J46<>"",J46<$B$3),"Befristung abgelaufen: Rechte prüfen",IF(AND(J46<>"",J46-$B$3<=14),"Befristung endet in 14 Tagen oder früher",IF(IFERROR(INDEX(Matrix!$C$30:$G$30,MATCH(B46,Matrix!$C$5:$G$5,0)),"in Ordnung")<>"in Ordnung","Matrix prüfen: "&IFERROR(INDEX(Matrix!$C$30:$G$30,MATCH(B46,Matrix!$C$5:$G$5,0)),"in Ordnung"),"in Ordnung"))))))))))))))

Sheet Beispiel
A1: beA-Zugänge der Mitarbeitenden (ausgefülltes Beispiel, fiktiv)
A2: Eine Zeile je Person. Beige = Eingabe. Die Spalte Prüfung zeigt, was noch fehlt.
A3: Stichtag | B3: 46288 | C3: (Vorgabe: heute; für Prüfungen zu einem anderen Datum überschreiben)
A6: Name | B6: Kanzlei-Rolle (Matrix) | C6: beA-Rolle | D6: Sicherheits-Token | E6: Token bestellt am | F6: Registriert am | G6: Rechte vergeben am | H6: Vergeben von | I6: Token freigeschaltet am | J6: Gültig bis (optional) | K6: Verschwiegenheit verpflichtet am | L6: Austritt am | M6: Rechte entzogen am | N6: Karte zurück / PIN neu am | O6: Rechte laut Matrix | P6: Prüfung
A7: Petra Beispiel | B7: ReFa Sachbearbeitung | C7: Mitarbeiter | D7: beA-Karte Mitarbeiter | E7: 46027 | F7: 46041 | G7: 46041 | H7: RAin Muster | I7: 46041 | K7: 46024 | O7: =IF(B7="","",IFERROR(INDEX(Matrix!$C$27:$G$27,MATCH(B7,Matrix!$C$5:$G$5,0)),"Rolle nicht in der Matrix")) | P7: =IF(A7="","",IF(AND(L7<>"",M7=""),"AUSTRITT: Rechte sofort entziehen",IF(AND(L7<>"",N7="",D7<>"beA-Karte Basis (eigenes Postfach)"),"AUSTRITT: Karte zurücknehmen oder Zertifikat löschen, PIN neu",IF(L7<>"","ausgeschieden, erledigt",IF(B7="","Kanzlei-Rolle wählen",IF(ISNA(MATCH(B7,Matrix!$C$5:$G$5,0)),"Kanzlei-Rolle nicht in der Matrix",IF(AND(C7="Vertretung",D7<>"beA-Karte Basis (eigenes Postfach)"),"Rolle Vertretung nur mit eigenem Postfach",IF(AND(IFERROR(INDEX(Matrix!$C$29:$G$29,MATCH(B7,Matrix!$C$5:$G$5,0))="ja",FALSE()),D7="Softwarezertifikat"),"Recht 19 geht nur mit Hardware-Token (Karte)",IF(AND(K7="",D7<>"beA-Karte Basis (eigenes Postfach)"),"Verschwiegenheitsverpflichtung fehlt (§ 43a Abs. 2 BRAO)",IF(G7="","Rechte noch nicht vergeben",IF(AND(IFERROR(INDEX(Matrix!$C$28:$G$28,MATCH(B7,Matrix!$C$5:$G$5,0))="ja",FALSE()),I7=""),"Token freischalten (Hardware-Token Inhaber oder Recht 19)",IF(AND(J7<>"",J7<$B$3),"Befristung abgelaufen: Rechte prüfen",IF(AND(J7<>"",J7-$B$3<=14),"Befristung endet in 14 Tagen oder früher",IF(IFERROR(INDEX(Matrix!$C$30:$G$30,MATCH(B7,Matrix!$C$5:$G$5,0)),"in Ordnung")<>"in Ordnung","Matrix prüfen: "&IFERROR(INDEX(Matrix!$C$30:$G$30,MATCH(B7,Matrix!$C$5:$G$5,0)),"in Ordnung"),"in Ordnung"))))))))))))))
A8: Jonas Beispiel | B8: Auszubildende | C8: Mitarbeiter | D8: Softwarezertifikat | E8: 46237 | F8: 46244 | G8: 46244 | H8: RAin Muster | I8: 46244 | K8: 46237 | O8: =IF(B8="","",IFERROR(INDEX(Matrix!$C$27:$G$27,MATCH(B8,Matrix!$C$5:$G$5,0)),"Rolle nicht in der Matrix")) | P8: =IF(A8="","",IF(AND(L8<>"",M8=""),"AUSTRITT: Rechte sofort entziehen",IF(AND(L8<>"",N8="",D8<>"beA-Karte Basis (eigenes Postfach)"),"AUSTRITT: Karte zurücknehmen oder Zertifikat löschen, PIN neu",IF(L8<>"","ausgeschieden, erledigt",IF(B8="","Kanzlei-Rolle wählen",IF(ISNA(MATCH(B8,Matrix!$C$5:$G$5,0)),"Kanzlei-Rolle nicht in der Matrix",IF(AND(C8="Vertretung",D8<>"beA-Karte Basis (eigenes Postfach)"),"Rolle Vertretung nur mit eigenem Postfach",IF(AND(IFERROR(INDEX(Matrix!$C$29:$G$29,MATCH(B8,Matrix!$C$5:$G$5,0))="ja",FALSE()),D8="Softwarezertifikat"),"Recht 19 geht nur mit Hardware-Token (Karte)",IF(AND(K8="",D8<>"beA-Karte Basis (eigenes Postfach)"),"Verschwiegenheitsverpflichtung fehlt (§ 43a Abs. 2 BRAO)",IF(G8="","Rechte noch nicht vergeben",IF(AND(IFERROR(INDEX(Matrix!$C$28:$G$28,MATCH(B8,Matrix!$C$5:$G$5,0))="ja",FALSE()),I8=""),"Token freischalten (Hardware-Token Inhaber oder Recht 19)",IF(AND(J8<>"",J8<$B$3),"Befristung abgelaufen: Rechte prüfen",IF(AND(J8<>"",J8-$B$3<=14),"Befristung endet in 14 Tagen oder früher",IF(IFERROR(INDEX(Matrix!$C$30:$G$30,MATCH(B8,Matrix!$C$5:$G$5,0)),"in Ordnung")<>"in Ordnung","Matrix prüfen: "&IFERROR(INDEX(Matrix!$C$30:$G$30,MATCH(B8,Matrix!$C$5:$G$5,0)),"in Ordnung"),"in Ordnung"))))))))))))))
A9: Sabine Beispiel | B9: Büroleitung | C9: Mitarbeiter | D9: Softwarezertifikat | E9: 46266 | F9: 46273 | G9: 46273 | H9: RAin Muster | K9: 46266 | O9: =IF(B9="","",IFERROR(INDEX(Matrix!$C$27:$G$27,MATCH(B9,Matrix!$C$5:$G$5,0)),"Rolle nicht in der Matrix")) | P9: =IF(A9="","",IF(AND(L9<>"",M9=""),"AUSTRITT: Rechte sofort entziehen",IF(AND(L9<>"",N9="",D9<>"beA-Karte Basis (eigenes Postfach)"),"AUSTRITT: Karte zurücknehmen oder Zertifikat löschen, PIN neu",IF(L9<>"","ausgeschieden, erledigt",IF(B9="","Kanzlei-Rolle wählen",IF(ISNA(MATCH(B9,Matrix!$C$5:$G$5,0)),"Kanzlei-Rolle nicht in der Matrix",IF(AND(C9="Vertretung",D9<>"beA-Karte Basis (eigenes Postfach)"),"Rolle Vertretung nur mit eigenem Postfach",IF(AND(IFERROR(INDEX(Matrix!$C$29:$G$29,MATCH(B9,Matrix!$C$5:$G$5,0))="ja",FALSE()),D9="Softwarezertifikat"),"Recht 19 geht nur mit Hardware-Token (Karte)",IF(AND(K9="",D9<>"beA-Karte Basis (eigenes Postfach)"),"Verschwiegenheitsverpflichtung fehlt (§ 43a Abs. 2 BRAO)",IF(G9="","Rechte noch nicht vergeben",IF(AND(IFERROR(INDEX(Matrix!$C$28:$G$28,MATCH(B9,Matrix!$C$5:$G$5,0))="ja",FALSE()),I9=""),"Token freischalten (Hardware-Token Inhaber oder Recht 19)",IF(AND(J9<>"",J9<$B$3),"Befristung abgelaufen: Rechte prüfen",IF(AND(J9<>"",J9-$B$3<=14),"Befristung endet in 14 Tagen oder früher",IF(IFERROR(INDEX(Matrix!$C$30:$G$30,MATCH(B9,Matrix!$C$5:$G$5,0)),"in Ordnung")<>"in Ordnung","Matrix prüfen: "&IFERROR(INDEX(Matrix!$C$30:$G$30,MATCH(B9,Matrix!$C$5:$G$5,0)),"in Ordnung"),"in Ordnung"))))))))))))))
A10: RA Ben Beispiel | B10: Vertretung (Anwältin/Anwalt) | C10: Vertretung | D10: beA-Karte Basis (eigenes Postfach) | G10: 46223 | H10: RAin Muster | I10: 46223 | J10: 46241 | O10: =IF(B10="","",IFERROR(INDEX(Matrix!$C$27:$G$27,MATCH(B10,Matrix!$C$5:$G$5,0)),"Rolle nicht in der Matrix")) | P10: =IF(A10="","",IF(AND(L10<>"",M10=""),"AUSTRITT: Rechte sofort entziehen",IF(AND(L10<>"",N10="",D10<>"beA-Karte Basis (eigenes Postfach)"),"AUSTRITT: Karte zurücknehmen oder Zertifikat löschen, PIN neu",IF(L10<>"","ausgeschieden, erledigt",IF(B10="","Kanzlei-Rolle wählen",IF(ISNA(MATCH(B10,Matrix!$C$5:$G$5,0)),"Kanzlei-Rolle nicht in der Matrix",IF(AND(C10="Vertretung",D10<>"beA-Karte Basis (eigenes Postfach)"),"Rolle Vertretung nur mit eigenem Postfach",IF(AND(IFERROR(INDEX(Matrix!$C$29:$G$29,MATCH(B10,Matrix!$C$5:$G$5,0))="ja",FALSE()),D10="Softwarezertifikat"),"Recht 19 geht nur mit Hardware-Token (Karte)",IF(AND(K10="",D10<>"beA-Karte Basis (eigenes Postfach)"),"Verschwiegenheitsverpflichtung fehlt (§ 43a Abs. 2 BRAO)",IF(G10="","Rechte noch nicht vergeben",IF(AND(IFERROR(INDEX(Matrix!$C$28:$G$28,MATCH(B10,Matrix!$C$5:$G$5,0))="ja",FALSE()),I10=""),"Token freischalten (Hardware-Token Inhaber oder Recht 19)",IF(AND(J10<>"",J10<$B$3),"Befristung abgelaufen: Rechte prüfen",IF(AND(J10<>"",J10-$B$3<=14),"Befristung endet in 14 Tagen oder früher",IF(IFERROR(INDEX(Matrix!$C$30:$G$30,MATCH(B10,Matrix!$C$5:$G$5,0)),"in Ordnung")<>"in Ordnung","Matrix prüfen: "&IFERROR(INDEX(Matrix!$C$30:$G$30,MATCH(B10,Matrix!$C$5:$G$5,0)),"in Ordnung"),"in Ordnung"))))))))))))))
A11: Lea Beispiel | B11: Aushilfe / Schreibkraft | C11: Mitarbeiter | D11: beA-Karte Mitarbeiter | E11: 45717 | F11: 45726 | G11: 45726 | H11: RAin Muster | I11: 45726 | K11: 45717 | L11: 46203 | M11: 46203 | O11: =IF(B11="","",IFERROR(INDEX(Matrix!$C$27:$G$27,MATCH(B11,Matrix!$C$5:$G$5,0)),"Rolle nicht in der Matrix")) | P11: =IF(A11="","",IF(AND(L11<>"",M11=""),"AUSTRITT: Rechte sofort entziehen",IF(AND(L11<>"",N11="",D11<>"beA-Karte Basis (eigenes Postfach)"),"AUSTRITT: Karte zurücknehmen oder Zertifikat löschen, PIN neu",IF(L11<>"","ausgeschieden, erledigt",IF(B11="","Kanzlei-Rolle wählen",IF(ISNA(MATCH(B11,Matrix!$C$5:$G$5,0)),"Kanzlei-Rolle nicht in der Matrix",IF(AND(C11="Vertretung",D11<>"beA-Karte Basis (eigenes Postfach)"),"Rolle Vertretung nur mit eigenem Postfach",IF(AND(IFERROR(INDEX(Matrix!$C$29:$G$29,MATCH(B11,Matrix!$C$5:$G$5,0))="ja",FALSE()),D11="Softwarezertifikat"),"Recht 19 geht nur mit Hardware-Token (Karte)",IF(AND(K11="",D11<>"beA-Karte Basis (eigenes Postfach)"),"Verschwiegenheitsverpflichtung fehlt (§ 43a Abs. 2 BRAO)",IF(G11="","Rechte noch nicht vergeben",IF(AND(IFERROR(INDEX(Matrix!$C$28:$G$28,MATCH(B11,Matrix!$C$5:$G$5,0))="ja",FALSE()),I11=""),"Token freischalten (Hardware-Token Inhaber oder Recht 19)",IF(AND(J11<>"",J11<$B$3),"Befristung abgelaufen: Rechte prüfen",IF(AND(J11<>"",J11-$B$3<=14),"Befristung endet in 14 Tagen oder früher",IF(IFERROR(INDEX(Matrix!$C$30:$G$30,MATCH(B11,Matrix!$C$5:$G$5,0)),"in Ordnung")<>"in Ordnung","Matrix prüfen: "&IFERROR(INDEX(Matrix!$C$30:$G$30,MATCH(B11,Matrix!$C$5:$G$5,0)),"in Ordnung"),"in Ordnung"))))))))))))))
O12: =IF(B12="","",IFERROR(INDEX(Matrix!$C$27:$G$27,MATCH(B12,Matrix!$C$5:$G$5,0)),"Rolle nicht in der Matrix")) | P12: =IF(A12="","",IF(AND(L12<>"",M12=""),"AUSTRITT: Rechte sofort entziehen",IF(AND(L12<>"",N12="",D12<>"beA-Karte Basis (eigenes Postfach)"),"AUSTRITT: Karte zurücknehmen oder Zertifikat löschen, PIN neu",IF(L12<>"","ausgeschieden, erledigt",IF(B12="","Kanzlei-Rolle wählen",IF(ISNA(MATCH(B12,Matrix!$C$5:$G$5,0)),"Kanzlei-Rolle nicht in der Matrix",IF(AND(C12="Vertretung",D12<>"beA-Karte Basis (eigenes Postfach)"),"Rolle Vertretung nur mit eigenem Postfach",IF(AND(IFERROR(INDEX(Matrix!$C$29:$G$29,MATCH(B12,Matrix!$C$5:$G$5,0))="ja",FALSE()),D12="Softwarezertifikat"),"Recht 19 geht nur mit Hardware-Token (Karte)",IF(AND(K12="",D12<>"beA-Karte Basis (eigenes Postfach)"),"Verschwiegenheitsverpflichtung fehlt (§ 43a Abs. 2 BRAO)",IF(G12="","Rechte noch nicht vergeben",IF(AND(IFERROR(INDEX(Matrix!$C$28:$G$28,MATCH(B12,Matrix!$C$5:$G$5,0))="ja",FALSE()),I12=""),"Token freischalten (Hardware-Token Inhaber oder Recht 19)",IF(AND(J12<>"",J12<$B$3),"Befristung abgelaufen: Rechte prüfen",IF(AND(J12<>"",J12-$B$3<=14),"Befristung endet in 14 Tagen oder früher",IF(IFERROR(INDEX(Matrix!$C$30:$G$30,MATCH(B12,Matrix!$C$5:$G$5,0)),"in Ordnung")<>"in Ordnung","Matrix prüfen: "&IFERROR(INDEX(Matrix!$C$30:$G$30,MATCH(B12,Matrix!$C$5:$G$5,0)),"in Ordnung"),"in Ordnung"))))))))))))))
O13: =IF(B13="","",IFERROR(INDEX(Matrix!$C$27:$G$27,MATCH(B13,Matrix!$C$5:$G$5,0)),"Rolle nicht in der Matrix")) | P13: =IF(A13="","",IF(AND(L13<>"",M13=""),"AUSTRITT: Rechte sofort entziehen",IF(AND(L13<>"",N13="",D13<>"beA-Karte Basis (eigenes Postfach)"),"AUSTRITT: Karte zurücknehmen oder Zertifikat löschen, PIN neu",IF(L13<>"","ausgeschieden, erledigt",IF(B13="","Kanzlei-Rolle wählen",IF(ISNA(MATCH(B13,Matrix!$C$5:$G$5,0)),"Kanzlei-Rolle nicht in der Matrix",IF(AND(C13="Vertretung",D13<>"beA-Karte Basis (eigenes Postfach)"),"Rolle Vertretung nur mit eigenem Postfach",IF(AND(IFERROR(INDEX(Matrix!$C$29:$G$29,MATCH(B13,Matrix!$C$5:$G$5,0))="ja",FALSE()),D13="Softwarezertifikat"),"Recht 19 geht nur mit Hardware-Token (Karte)",IF(AND(K13="",D13<>"beA-Karte Basis (eigenes Postfach)"),"Verschwiegenheitsverpflichtung fehlt (§ 43a Abs. 2 BRAO)",IF(G13="","Rechte noch nicht vergeben",IF(AND(IFERROR(INDEX(Matrix!$C$28:$G$28,MATCH(B13,Matrix!$C$5:$G$5,0))="ja",FALSE()),I13=""),"Token freischalten (Hardware-Token Inhaber oder Recht 19)",IF(AND(J13<>"",J13<$B$3),"Befristung abgelaufen: Rechte prüfen",IF(AND(J13<>"",J13-$B$3<=14),"Befristung endet in 14 Tagen oder früher",IF(IFERROR(INDEX(Matrix!$C$30:$G$30,MATCH(B13,Matrix!$C$5:$G$5,0)),"in Ordnung")<>"in Ordnung","Matrix prüfen: "&IFERROR(INDEX(Matrix!$C$30:$G$30,MATCH(B13,Matrix!$C$5:$G$5,0)),"in Ordnung"),"in Ordnung"))))))))))))))
O14: =IF(B14="","",IFERROR(INDEX(Matrix!$C$27:$G$27,MATCH(B14,Matrix!$C$5:$G$5,0)),"Rolle nicht in der Matrix")) | P14: =IF(A14="","",IF(AND(L14<>"",M14=""),"AUSTRITT: Rechte sofort entziehen",IF(AND(L14<>"",N14="",D14<>"beA-Karte Basis (eigenes Postfach)"),"AUSTRITT: Karte zurücknehmen oder Zertifikat löschen, PIN neu",IF(L14<>"","ausgeschieden, erledigt",IF(B14="","Kanzlei-Rolle wählen",IF(ISNA(MATCH(B14,Matrix!$C$5:$G$5,0)),"Kanzlei-Rolle nicht in der Matrix",IF(AND(C14="Vertretung",D14<>"beA-Karte Basis (eigenes Postfach)"),"Rolle Vertretung nur mit eigenem Postfach",IF(AND(IFERROR(INDEX(Matrix!$C$29:$G$29,MATCH(B14,Matrix!$C$5:$G$5,0))="ja",FALSE()),D14="Softwarezertifikat"),"Recht 19 geht nur mit Hardware-Token (Karte)",IF(AND(K14="",D14<>"beA-Karte Basis (eigenes Postfach)"),"Verschwiegenheitsverpflichtung fehlt (§ 43a Abs. 2 BRAO)",IF(G14="","Rechte noch nicht vergeben",IF(AND(IFERROR(INDEX(Matrix!$C$28:$G$28,MATCH(B14,Matrix!$C$5:$G$5,0))="ja",FALSE()),I14=""),"Token freischalten (Hardware-Token Inhaber oder Recht 19)",IF(AND(J14<>"",J14<$B$3),"Befristung abgelaufen: Rechte prüfen",IF(AND(J14<>"",J14-$B$3<=14),"Befristung endet in 14 Tagen oder früher",IF(IFERROR(INDEX(Matrix!$C$30:$G$30,MATCH(B14,Matrix!$C$5:$G$5,0)),"in Ordnung")<>"in Ordnung","Matrix prüfen: "&IFERROR(INDEX(Matrix!$C$30:$G$30,MATCH(B14,Matrix!$C$5:$G$5,0)),"in Ordnung"),"in Ordnung"))))))))))))))
O15: =IF(B15="","",IFERROR(INDEX(Matrix!$C$27:$G$27,MATCH(B15,Matrix!$C$5:$G$5,0)),"Rolle nicht in der Matrix")) | P15: =IF(A15="","",IF(AND(L15<>"",M15=""),"AUSTRITT: Rechte sofort entziehen",IF(AND(L15<>"",N15="",D15<>"beA-Karte Basis (eigenes Postfach)"),"AUSTRITT: Karte zurücknehmen oder Zertifikat löschen, PIN neu",IF(L15<>"","ausgeschieden, erledigt",IF(B15="","Kanzlei-Rolle wählen",IF(ISNA(MATCH(B15,Matrix!$C$5:$G$5,0)),"Kanzlei-Rolle nicht in der Matrix",IF(AND(C15="Vertretung",D15<>"beA-Karte Basis (eigenes Postfach)"),"Rolle Vertretung nur mit eigenem Postfach",IF(AND(IFERROR(INDEX(Matrix!$C$29:$G$29,MATCH(B15,Matrix!$C$5:$G$5,0))="ja",FALSE()),D15="Softwarezertifikat"),"Recht 19 geht nur mit Hardware-Token (Karte)",IF(AND(K15="",D15<>"beA-Karte Basis (eigenes Postfach)"),"Verschwiegenheitsverpflichtung fehlt (§ 43a Abs. 2 BRAO)",IF(G15="","Rechte noch nicht vergeben",IF(AND(IFERROR(INDEX(Matrix!$C$28:$G$28,MATCH(B15,Matrix!$C$5:$G$5,0))="ja",FALSE()),I15=""),"Token freischalten (Hardware-Token Inhaber oder Recht 19)",IF(AND(J15<>"",J15<$B$3),"Befristung abgelaufen: Rechte prüfen",IF(AND(J15<>"",J15-$B$3<=14),"Befristung endet in 14 Tagen oder früher",IF(IFERROR(INDEX(Matrix!$C$30:$G$30,MATCH(B15,Matrix!$C$5:$G$5,0)),"in Ordnung")<>"in Ordnung","Matrix prüfen: "&IFERROR(INDEX(Matrix!$C$30:$G$30,MATCH(B15,Matrix!$C$5:$G$5,0)),"in Ordnung"),"in Ordnung"))))))))))))))
O16: =IF(B16="","",IFERROR(INDEX(Matrix!$C$27:$G$27,MATCH(B16,Matrix!$C$5:$G$5,0)),"Rolle nicht in der Matrix")) | P16: =IF(A16="","",IF(AND(L16<>"",M16=""),"AUSTRITT: Rechte sofort entziehen",IF(AND(L16<>"",N16="",D16<>"beA-Karte Basis (eigenes Postfach)"),"AUSTRITT: Karte zurücknehmen oder Zertifikat löschen, PIN neu",IF(L16<>"","ausgeschieden, erledigt",IF(B16="","Kanzlei-Rolle wählen",IF(ISNA(MATCH(B16,Matrix!$C$5:$G$5,0)),"Kanzlei-Rolle nicht in der Matrix",IF(AND(C16="Vertretung",D16<>"beA-Karte Basis (eigenes Postfach)"),"Rolle Vertretung nur mit eigenem Postfach",IF(AND(IFERROR(INDEX(Matrix!$C$29:$G$29,MATCH(B16,Matrix!$C$5:$G$5,0))="ja",FALSE()),D16="Softwarezertifikat"),"Recht 19 geht nur mit Hardware-Token (Karte)",IF(AND(K16="",D16<>"beA-Karte Basis (eigenes Postfach)"),"Verschwiegenheitsverpflichtung fehlt (§ 43a Abs. 2 BRAO)",IF(G16="","Rechte noch nicht vergeben",IF(AND(IFERROR(INDEX(Matrix!$C$28:$G$28,MATCH(B16,Matrix!$C$5:$G$5,0))="ja",FALSE()),I16=""),"Token freischalten (Hardware-Token Inhaber oder Recht 19)",IF(AND(J16<>"",J16<$B$3),"Befristung abgelaufen: Rechte prüfen",IF(AND(J16<>"",J16-$B$3<=14),"Befristung endet in 14 Tagen oder früher",IF(IFERROR(INDEX(Matrix!$C$30:$G$30,MATCH(B16,Matrix!$C$5:$G$5,0)),"in Ordnung")<>"in Ordnung","Matrix prüfen: "&IFERROR(INDEX(Matrix!$C$30:$G$30,MATCH(B16,Matrix!$C$5:$G$5,0)),"in Ordnung"),"in Ordnung"))))))))))))))
O17: =IF(B17="","",IFERROR(INDEX(Matrix!$C$27:$G$27,MATCH(B17,Matrix!$C$5:$G$5,0)),"Rolle nicht in der Matrix")) | P17: =IF(A17="","",IF(AND(L17<>"",M17=""),"AUSTRITT: Rechte sofort entziehen",IF(AND(L17<>"",N17="",D17<>"beA-Karte Basis (eigenes Postfach)"),"AUSTRITT: Karte zurücknehmen oder Zertifikat löschen, PIN neu",IF(L17<>"","ausgeschieden, erledigt",IF(B17="","Kanzlei-Rolle wählen",IF(ISNA(MATCH(B17,Matrix!$C$5:$G$5,0)),"Kanzlei-Rolle nicht in der Matrix",IF(AND(C17="Vertretung",D17<>"beA-Karte Basis (eigenes Postfach)"),"Rolle Vertretung nur mit eigenem Postfach",IF(AND(IFERROR(INDEX(Matrix!$C$29:$G$29,MATCH(B17,Matrix!$C$5:$G$5,0))="ja",FALSE()),D17="Softwarezertifikat"),"Recht 19 geht nur mit Hardware-Token (Karte)",IF(AND(K17="",D17<>"beA-Karte Basis (eigenes Postfach)"),"Verschwiegenheitsverpflichtung fehlt (§ 43a Abs. 2 BRAO)",IF(G17="","Rechte noch nicht vergeben",IF(AND(IFERROR(INDEX(Matrix!$C$28:$G$28,MATCH(B17,Matrix!$C$5:$G$5,0))="ja",FALSE()),I17=""),"Token freischalten (Hardware-Token Inhaber oder Recht 19)",IF(AND(J17<>"",J17<$B$3),"Befristung abgelaufen: Rechte prüfen",IF(AND(J17<>"",J17-$B$3<=14),"Befristung endet in 14 Tagen oder früher",IF(IFERROR(INDEX(Matrix!$C$30:$G$30,MATCH(B17,Matrix!$C$5:$G$5,0)),"in Ordnung")<>"in Ordnung","Matrix prüfen: "&IFERROR(INDEX(Matrix!$C$30:$G$30,MATCH(B17,Matrix!$C$5:$G$5,0)),"in Ordnung"),"in Ordnung"))))))))))))))
O18: =IF(B18="","",IFERROR(INDEX(Matrix!$C$27:$G$27,MATCH(B18,Matrix!$C$5:$G$5,0)),"Rolle nicht in der Matrix")) | P18: =IF(A18="","",IF(AND(L18<>"",M18=""),"AUSTRITT: Rechte sofort entziehen",IF(AND(L18<>"",N18="",D18<>"beA-Karte Basis (eigenes Postfach)"),"AUSTRITT: Karte zurücknehmen oder Zertifikat löschen, PIN neu",IF(L18<>"","ausgeschieden, erledigt",IF(B18="","Kanzlei-Rolle wählen",IF(ISNA(MATCH(B18,Matrix!$C$5:$G$5,0)),"Kanzlei-Rolle nicht in der Matrix",IF(AND(C18="Vertretung",D18<>"beA-Karte Basis (eigenes Postfach)"),"Rolle Vertretung nur mit eigenem Postfach",IF(AND(IFERROR(INDEX(Matrix!$C$29:$G$29,MATCH(B18,Matrix!$C$5:$G$5,0))="ja",FALSE()),D18="Softwarezertifikat"),"Recht 19 geht nur mit Hardware-Token (Karte)",IF(AND(K18="",D18<>"beA-Karte Basis (eigenes Postfach)"),"Verschwiegenheitsverpflichtung fehlt (§ 43a Abs. 2 BRAO)",IF(G18="","Rechte noch nicht vergeben",IF(AND(IFERROR(INDEX(Matrix!$C$28:$G$28,MATCH(B18,Matrix!$C$5:$G$5,0))="ja",FALSE()),I18=""),"Token freischalten (Hardware-Token Inhaber oder Recht 19)",IF(AND(J18<>"",J18<$B$3),"Befristung abgelaufen: Rechte prüfen",IF(AND(J18<>"",J18-$B$3<=14),"Befristung endet in 14 Tagen oder früher",IF(IFERROR(INDEX(Matrix!$C$30:$G$30,MATCH(B18,Matrix!$C$5:$G$5,0)),"in Ordnung")<>"in Ordnung","Matrix prüfen: "&IFERROR(INDEX(Matrix!$C$30:$G$30,MATCH(B18,Matrix!$C$5:$G$5,0)),"in Ordnung"),"in Ordnung"))))))))))))))
O19: =IF(B19="","",IFERROR(INDEX(Matrix!$C$27:$G$27,MATCH(B19,Matrix!$C$5:$G$5,0)),"Rolle nicht in der Matrix")) | P19: =IF(A19="","",IF(AND(L19<>"",M19=""),"AUSTRITT: Rechte sofort entziehen",IF(AND(L19<>"",N19="",D19<>"beA-Karte Basis (eigenes Postfach)"),"AUSTRITT: Karte zurücknehmen oder Zertifikat löschen, PIN neu",IF(L19<>"","ausgeschieden, erledigt",IF(B19="","Kanzlei-Rolle wählen",IF(ISNA(MATCH(B19,Matrix!$C$5:$G$5,0)),"Kanzlei-Rolle nicht in der Matrix",IF(AND(C19="Vertretung",D19<>"beA-Karte Basis (eigenes Postfach)"),"Rolle Vertretung nur mit eigenem Postfach",IF(AND(IFERROR(INDEX(Matrix!$C$29:$G$29,MATCH(B19,Matrix!$C$5:$G$5,0))="ja",FALSE()),D19="Softwarezertifikat"),"Recht 19 geht nur mit Hardware-Token (Karte)",IF(AND(K19="",D19<>"beA-Karte Basis (eigenes Postfach)"),"Verschwiegenheitsverpflichtung fehlt (§ 43a Abs. 2 BRAO)",IF(G19="","Rechte noch nicht vergeben",IF(AND(IFERROR(INDEX(Matrix!$C$28:$G$28,MATCH(B19,Matrix!$C$5:$G$5,0))="ja",FALSE()),I19=""),"Token freischalten (Hardware-Token Inhaber oder Recht 19)",IF(AND(J19<>"",J19<$B$3),"Befristung abgelaufen: Rechte prüfen",IF(AND(J19<>"",J19-$B$3<=14),"Befristung endet in 14 Tagen oder früher",IF(IFERROR(INDEX(Matrix!$C$30:$G$30,MATCH(B19,Matrix!$C$5:$G$5,0)),"in Ordnung")<>"in Ordnung","Matrix prüfen: "&IFERROR(INDEX(Matrix!$C$30:$G$30,MATCH(B19,Matrix!$C$5:$G$5,0)),"in Ordnung"),"in Ordnung"))))))))))))))
O20: =IF(B20="","",IFERROR(INDEX(Matrix!$C$27:$G$27,MATCH(B20,Matrix!$C$5:$G$5,0)),"Rolle nicht in der Matrix")) | P20: =IF(A20="","",IF(AND(L20<>"",M20=""),"AUSTRITT: Rechte sofort entziehen",IF(AND(L20<>"",N20="",D20<>"beA-Karte Basis (eigenes Postfach)"),"AUSTRITT: Karte zurücknehmen oder Zertifikat löschen, PIN neu",IF(L20<>"","ausgeschieden, erledigt",IF(B20="","Kanzlei-Rolle wählen",IF(ISNA(MATCH(B20,Matrix!$C$5:$G$5,0)),"Kanzlei-Rolle nicht in der Matrix",IF(AND(C20="Vertretung",D20<>"beA-Karte Basis (eigenes Postfach)"),"Rolle Vertretung nur mit eigenem Postfach",IF(AND(IFERROR(INDEX(Matrix!$C$29:$G$29,MATCH(B20,Matrix!$C$5:$G$5,0))="ja",FALSE()),D20="Softwarezertifikat"),"Recht 19 geht nur mit Hardware-Token (Karte)",IF(AND(K20="",D20<>"beA-Karte Basis (eigenes Postfach)"),"Verschwiegenheitsverpflichtung fehlt (§ 43a Abs. 2 BRAO)",IF(G20="","Rechte noch nicht vergeben",IF(AND(IFERROR(INDEX(Matrix!$C$28:$G$28,MATCH(B20,Matrix!$C$5:$G$5,0))="ja",FALSE()),I20=""),"Token freischalten (Hardware-Token Inhaber oder Recht 19)",IF(AND(J20<>"",J20<$B$3),"Befristung abgelaufen: Rechte prüfen",IF(AND(J20<>"",J20-$B$3<=14),"Befristung endet in 14 Tagen oder früher",IF(IFERROR(INDEX(Matrix!$C$30:$G$30,MATCH(B20,Matrix!$C$5:$G$5,0)),"in Ordnung")<>"in Ordnung","Matrix prüfen: "&IFERROR(INDEX(Matrix!$C$30:$G$30,MATCH(B20,Matrix!$C$5:$G$5,0)),"in Ordnung"),"in Ordnung"))))))))))))))
O21: =IF(B21="","",IFERROR(INDEX(Matrix!$C$27:$G$27,MATCH(B21,Matrix!$C$5:$G$5,0)),"Rolle nicht in der Matrix")) | P21: =IF(A21="","",IF(AND(L21<>"",M21=""),"AUSTRITT: Rechte sofort entziehen",IF(AND(L21<>"",N21="",D21<>"beA-Karte Basis (eigenes Postfach)"),"AUSTRITT: Karte zurücknehmen oder Zertifikat löschen, PIN neu",IF(L21<>"","ausgeschieden, erledigt",IF(B21="","Kanzlei-Rolle wählen",IF(ISNA(MATCH(B21,Matrix!$C$5:$G$5,0)),"Kanzlei-Rolle nicht in der Matrix",IF(AND(C21="Vertretung",D21<>"beA-Karte Basis (eigenes Postfach)"),"Rolle Vertretung nur mit eigenem Postfach",IF(AND(IFERROR(INDEX(Matrix!$C$29:$G$29,MATCH(B21,Matrix!$C$5:$G$5,0))="ja",FALSE()),D21="Softwarezertifikat"),"Recht 19 geht nur mit Hardware-Token (Karte)",IF(AND(K21="",D21<>"beA-Karte Basis (eigenes Postfach)"),"Verschwiegenheitsverpflichtung fehlt (§ 43a Abs. 2 BRAO)",IF(G21="","Rechte noch nicht vergeben",IF(AND(IFERROR(INDEX(Matrix!$C$28:$G$28,MATCH(B21,Matrix!$C$5:$G$5,0))="ja",FALSE()),I21=""),"Token freischalten (Hardware-Token Inhaber oder Recht 19)",IF(AND(J21<>"",J21<$B$3),"Befristung abgelaufen: Rechte prüfen",IF(AND(J21<>"",J21-$B$3<=14),"Befristung endet in 14 Tagen oder früher",IF(IFERROR(INDEX(Matrix!$C$30:$G$30,MATCH(B21,Matrix!$C$5:$G$5,0)),"in Ordnung")<>"in Ordnung","Matrix prüfen: "&IFERROR(INDEX(Matrix!$C$30:$G$30,MATCH(B21,Matrix!$C$5:$G$5,0)),"in Ordnung"),"in Ordnung"))))))))))))))
O22: =IF(B22="","",IFERROR(INDEX(Matrix!$C$27:$G$27,MATCH(B22,Matrix!$C$5:$G$5,0)),"Rolle nicht in der Matrix")) | P22: =IF(A22="","",IF(AND(L22<>"",M22=""),"AUSTRITT: Rechte sofort entziehen",IF(AND(L22<>"",N22="",D22<>"beA-Karte Basis (eigenes Postfach)"),"AUSTRITT: Karte zurücknehmen oder Zertifikat löschen, PIN neu",IF(L22<>"","ausgeschieden, erledigt",IF(B22="","Kanzlei-Rolle wählen",IF(ISNA(MATCH(B22,Matrix!$C$5:$G$5,0)),"Kanzlei-Rolle nicht in der Matrix",IF(AND(C22="Vertretung",D22<>"beA-Karte Basis (eigenes Postfach)"),"Rolle Vertretung nur mit eigenem Postfach",IF(AND(IFERROR(INDEX(Matrix!$C$29:$G$29,MATCH(B22,Matrix!$C$5:$G$5,0))="ja",FALSE()),D22="Softwarezertifikat"),"Recht 19 geht nur mit Hardware-Token (Karte)",IF(AND(K22="",D22<>"beA-Karte Basis (eigenes Postfach)"),"Verschwiegenheitsverpflichtung fehlt (§ 43a Abs. 2 BRAO)",IF(G22="","Rechte noch nicht vergeben",IF(AND(IFERROR(INDEX(Matrix!$C$28:$G$28,MATCH(B22,Matrix!$C$5:$G$5,0))="ja",FALSE()),I22=""),"Token freischalten (Hardware-Token Inhaber oder Recht 19)",IF(AND(J22<>"",J22<$B$3),"Befristung abgelaufen: Rechte prüfen",IF(AND(J22<>"",J22-$B$3<=14),"Befristung endet in 14 Tagen oder früher",IF(IFERROR(INDEX(Matrix!$C$30:$G$30,MATCH(B22,Matrix!$C$5:$G$5,0)),"in Ordnung")<>"in Ordnung","Matrix prüfen: "&IFERROR(INDEX(Matrix!$C$30:$G$30,MATCH(B22,Matrix!$C$5:$G$5,0)),"in Ordnung"),"in Ordnung"))))))))))))))
O23: =IF(B23="","",IFERROR(INDEX(Matrix!$C$27:$G$27,MATCH(B23,Matrix!$C$5:$G$5,0)),"Rolle nicht in der Matrix")) | P23: =IF(A23="","",IF(AND(L23<>"",M23=""),"AUSTRITT: Rechte sofort entziehen",IF(AND(L23<>"",N23="",D23<>"beA-Karte Basis (eigenes Postfach)"),"AUSTRITT: Karte zurücknehmen oder Zertifikat löschen, PIN neu",IF(L23<>"","ausgeschieden, erledigt",IF(B23="","Kanzlei-Rolle wählen",IF(ISNA(MATCH(B23,Matrix!$C$5:$G$5,0)),"Kanzlei-Rolle nicht in der Matrix",IF(AND(C23="Vertretung",D23<>"beA-Karte Basis (eigenes Postfach)"),"Rolle Vertretung nur mit eigenem Postfach",IF(AND(IFERROR(INDEX(Matrix!$C$29:$G$29,MATCH(B23,Matrix!$C$5:$G$5,0))="ja",FALSE()),D23="Softwarezertifikat"),"Recht 19 geht nur mit Hardware-Token (Karte)",IF(AND(K23="",D23<>"beA-Karte Basis (eigenes Postfach)"),"Verschwiegenheitsverpflichtung fehlt (§ 43a Abs. 2 BRAO)",IF(G23="","Rechte noch nicht vergeben",IF(AND(IFERROR(INDEX(Matrix!$C$28:$G$28,MATCH(B23,Matrix!$C$5:$G$5,0))="ja",FALSE()),I23=""),"Token freischalten (Hardware-Token Inhaber oder Recht 19)",IF(AND(J23<>"",J23<$B$3),"Befristung abgelaufen: Rechte prüfen",IF(AND(J23<>"",J23-$B$3<=14),"Befristung endet in 14 Tagen oder früher",IF(IFERROR(INDEX(Matrix!$C$30:$G$30,MATCH(B23,Matrix!$C$5:$G$5,0)),"in Ordnung")<>"in Ordnung","Matrix prüfen: "&IFERROR(INDEX(Matrix!$C$30:$G$30,MATCH(B23,Matrix!$C$5:$G$5,0)),"in Ordnung"),"in Ordnung"))))))))))))))
... O46: =IF(B46="","",IFERROR(INDEX(Matrix!$C$27:$G$27,MATCH(B46,Matrix!$C$5:$G$5,0)),"Rolle nicht in der Matrix")) | P46: =IF(A46="","",IF(AND(L46<>"",M46=""),"AUSTRITT: Rechte sofort entziehen",IF(AND(L46<>"",N46="",D46<>"beA-Karte Basis (eigenes Postfach)"),"AUSTRITT: Karte zurücknehmen oder Zertifikat löschen, PIN neu",IF(L46<>"","ausgeschieden, erledigt",IF(B46="","Kanzlei-Rolle wählen",IF(ISNA(MATCH(B46,Matrix!$C$5:$G$5,0)),"Kanzlei-Rolle nicht in der Matrix",IF(AND(C46="Vertretung",D46<>"beA-Karte Basis (eigenes Postfach)"),"Rolle Vertretung nur mit eigenem Postfach",IF(AND(IFERROR(INDEX(Matrix!$C$29:$G$29,MATCH(B46,Matrix!$C$5:$G$5,0))="ja",FALSE()),D46="Softwarezertifikat"),"Recht 19 geht nur mit Hardware-Token (Karte)",IF(AND(K46="",D46<>"beA-Karte Basis (eigenes Postfach)"),"Verschwiegenheitsverpflichtung fehlt (§ 43a Abs. 2 BRAO)",IF(G46="","Rechte noch nicht vergeben",IF(AND(IFERROR(INDEX(Matrix!$C$28:$G$28,MATCH(B46,Matrix!$C$5:$G$5,0))="ja",FALSE()),I46=""),"Token freischalten (Hardware-Token Inhaber oder Recht 19)",IF(AND(J46<>"",J46<$B$3),"Befristung abgelaufen: Rechte prüfen",IF(AND(J46<>"",J46-$B$3<=14),"Befristung endet in 14 Tagen oder früher",IF(IFERROR(INDEX(Matrix!$C$30:$G$30,MATCH(B46,Matrix!$C$5:$G$5,0)),"in Ordnung")<>"in Ordnung","Matrix prüfen: "&IFERROR(INDEX(Matrix!$C$30:$G$30,MATCH(B46,Matrix!$C$5:$G$5,0)),"in Ordnung"),"in Ordnung"))))))))))))))

Sheet Rechte
A1: Liste der Rechte im beA (Nachschlagen)
A2: Quelle: https://handbuch.bea-brak.de/einstellungen-in-ihrem-bea/postfachverwaltung/benutzerverwaltung-berechtigungskonzept/liste-der-rechte (beA-Anwenderhandbuch v4.6.1, beA-Version 4.6.3 (Update 17.09.2026), abgerufen 23.09.2026)
A4: Nr. | B4: Recht | C4: Gruppe | D4: Token-Freischaltung | E4: Hinweis
A5: 01 | B5: Nachrichtenübersicht öffnen | C5: Übersicht | D5: nein | E5: Liste sichtbar, Betreff erst mit 06 oder 11
A6: 03 | B6: Nachricht erstellen | C6: Erstellen/Versenden | D6: ja | E6: nur Entwurf, kein Versand; nötig für eEB-Entwurf
A7: 05 | B7: Nachricht versenden | C7: Erstellen/Versenden | D7: nein | E7: enthält 03; kein eEB-Versand
A8: 06 | B8: Nachricht öffnen | C8: Erstellen/Versenden | D8: ja | E8: alle nicht vertraulichen Nachrichten lesen
A9: 07 | B9: Nachricht exportieren/drucken | C9: Erstellen/Versenden | D9: ja | E9: nicht vertrauliche Nachrichten
A10: 08 | B10: Nachricht organisieren | C10: Erstellen/Versenden | D10: nein | E10: Ordner, Verschieben, Etiketten
A11: 09 | B11: Nachricht in Papierkorb verschieben | C11: Erstellen/Versenden | D11: nein | E11: auch zurückholen
A12: 10 | B12: Nachricht löschen | C12: Erstellen/Versenden | D12: nein | E12: unwiederbringlich; nur nach Lesen oder Export
A13: 11 | B13: Nachricht (vertraulich) öffnen | C13: Erstellen/Versenden | D13: ja | E13: erweitert 06 auf vertrauliche Nachrichten
A14: 12 | B14: Nachricht (vertraulich) exportieren/drucken | C14: Erstellen/Versenden | D14: ja | E14: erweitert 07
A15: 13 | B15: eEBs signieren | C15: Empfangsbekenntnisse | D15: ja | E15: nicht vertrauliche Nachrichten
... A17: 15 | B17: eEBs zurückweisen | C17: Empfangsbekenntnisse | D17: ja | E17: braucht zusätzlich 03 oder 05
A18: 16 | B18: eEBs signieren (vertrauliche Nachrichten) | C18: Empfangsbekenntnisse | D18: ja
A19: 17 | B19: eEBs versenden (vertrauliche Nachrichten) | C19: Empfangsbekenntnisse | D19: ja | E19: braucht zusätzlich 03
A20: 18 | B20: Mitarbeiter verwalten | C20: Verwaltung | D20: nein | E20: Benutzer anlegen/ändern, keine optionalen Rechte
A21: 19 | B21: Berechtigungen verwalten | C21: Verwaltung | D21: ja | E21: nur mit Hardware-Token (Karte)
A22: 20 | B22: Postfach- und Nachrichtenjournal verwenden | C22: Journale | D22: nein | E22: Nachrichtenjournal braucht zusätzlich 01
A23: 30 | B23: eEBs mit VHN versenden | C23: nur über Rolle | D23: ja | E23: nur Rollen Vertretung, Zustellungsbevollmächtigter, VHN-Berechtigter
A24: 31 | B24: Nachricht mit VHN versenden | C24: nur über Rolle | D24: ja | E24: nur Rolle VHN-Berechtigter, nur Postfach einer Berufsausübungsgesellschaft
A26: Feste Rechte der beA-Rollen (Handbuch, Liste der Rollen):
A27: Mitarbeiter: 01 (entziehbar). Vertretung: 01, 03, 06, 14, 15, 30, nur für Benutzer mit eigenem Postfach.
A28: Zustellungsbevollmächtigter: 01, 03, 06, 14, 15, 30. VHN-Berechtigter: 01, 03, 05, 06, 13, 14, 15, 30, 31, nur Berufsausübungsgesellschaften.
A29: Vertretung (RAK), Zustellungsbevollmächtigter (RAK) und Abwickler werden über die Rechtsanwaltskammer gemeldet.
